BEGIN:VCALENDAR
VERSION:2.0
PRODID:-//ChamberMaster//Event Calendar 2.0//EN
METHOD:PUBLISH
X-PUBLISHED-TTL:P3D
REFRESH-INTERVAL:P3D
CALSCALE:GREGORIAN
BEGIN:VEVENT
DTSTART:20090915T130000Z
DTEND:20090915T140000Z
X-MICROSOFT-CDO-ALLDAYEVENT:FALSE
SUMMARY:Economic Development Task Force
DESCRIPTION:Quarterly Meetings
X-ALT-DESC;FMTTYPE=text/html:<p>Quarterly Meetings</p>
LOCATION:Task Force meetings will be held quarterly at different industries which will be forthcoming.
UID:e.43.2725
SEQUENCE:3
DTSTAMP:20260423T073558Z
URL:http://ottawachamber.chambermaster.com/events/details/economic-development-task-force-09-15-2009-2725
END:VEVENT

END:VCALENDAR
